BEGIN:VCALENDAR
PRODID:-//eluceo/ical//2.0/EN
VERSION:2.0
CALSCALE:GREGORIAN
BEGIN:VEVENT
UID:b0a08813f48d8d5e77a2101fe80447c5
DTSTAMP:20260423T110641Z
SUMMARY:Spitex Region Entlebuch – eine geglückte Fusion unserer Talschaf
 t
DESCRIPTION:Govornik(ci): Alois Vogel\, Präsident
URL:https://rc-entlebuch.ch/bs/agenda/show/28103
DTSTART;TZID=Europe/Zurich:20130131T121500
DTEND;TZID=Europe/Zurich:20130131T121500
LOCATION:Hotel Drei Könige
CATEGORIES:Rotary
END:VEVENT
BEGIN:VTIMEZONE
TZID:Europe/Zurich
BEGIN:STANDARD
DTSTART:20130131T121500
TZNAME:CET
TZOFFSETTO:+0100
TZOFFSETFROM:+0100
END:STANDARD
END:VTIMEZONE
END:VCALENDAR
