BEGIN:VCALENDAR
PRODID:-//eluceo/ical//2.0/EN
VERSION:2.0
CALSCALE:GREGORIAN
BEGIN:VEVENT
UID:a389406afe1f023612d6506d731667de
DTSTAMP:20260423T053827Z
SUMMARY:GV II  2016/17
DESCRIPTION:Siehe separate Einladung/Traktandenliste.
URL:https://rc-entlebuch.ch/bs/agenda/show/74307
DTSTART;TZID=Europe/Zurich:20170629T121500
DTEND;TZID=Europe/Zurich:20170629T121500
LOCATION:Hotel Drei Könige
CATEGORIES:Rotary
END:VEVENT
BEGIN:VTIMEZONE
TZID:Europe/Zurich
BEGIN:DAYLIGHT
DTSTART:20170629T121500
TZNAME:CEST
TZOFFSETTO:+0200
TZOFFSETFROM:+0200
END:DAYLIGHT
END:VTIMEZONE
END:VCALENDAR
