BEGIN:VCALENDAR
PRODID:-//eluceo/ical//2.0/EN
VERSION:2.0
CALSCALE:GREGORIAN
BEGIN:VEVENT
UID:fbf1a75ad1faa23557027c99dfb550d4
DTSTAMP:20260426T002222Z
SUMMARY:Luzerner Kantorei - ein neuer musikalischer Leuchtturm entsteht 
DESCRIPTION:Referenten/innen: Birgit Aufterbeck
URL:https://rc-entlebuch.ch/de/agenda/show/29039
DTSTART;TZID=Europe/Zurich:20130214T121500
DTEND;TZID=Europe/Zurich:20130214T121500
LOCATION:Hotel Drei Könige
CATEGORIES:Rotary
END:VEVENT
BEGIN:VTIMEZONE
TZID:Europe/Zurich
BEGIN:STANDARD
DTSTART:20130214T121500
TZNAME:CET
TZOFFSETTO:+0100
TZOFFSETFROM:+0100
END:STANDARD
END:VTIMEZONE
END:VCALENDAR
