BEGIN:VCALENDAR
PRODID:-//eluceo/ical//2.0/EN
VERSION:2.0
CALSCALE:GREGORIAN
BEGIN:VEVENT
UID:6c38009aacf22f0de0afdaeb9802242e
DTSTAMP:20260425T133229Z
SUMMARY:Von Ackermann zu AEntlebuch & SVZ Schweizer Versandzentrum
DESCRIPTION:Referenten/innen: Adrian Sfintesco\, CEO A Aco AG
URL:https://rc-entlebuch.ch/de/agenda/show/67293
DTSTART;TZID=Europe/Zurich:20161006T121500
DTEND;TZID=Europe/Zurich:20161006T121500
LOCATION:Landgasthof Drei Könige\, Entlebuch
CATEGORIES:Rotary
END:VEVENT
BEGIN:VTIMEZONE
TZID:Europe/Zurich
BEGIN:DAYLIGHT
DTSTART:20161006T121500
TZNAME:CEST
TZOFFSETTO:+0200
TZOFFSETFROM:+0200
END:DAYLIGHT
END:VTIMEZONE
END:VCALENDAR
