BEGIN:VCALENDAR
PRODID:-//eluceo/ical//2.0/EN
VERSION:2.0
CALSCALE:GREGORIAN
BEGIN:VEVENT
UID:307c79343bf182c75dddba5478783f90
DTSTAMP:20260425T125841Z
SUMMARY:CVS - Das neue Clubverwaltungssystem
DESCRIPTION:
URL:https://rc-entlebuch.ch/en/agenda/show/18316
DTSTART;TZID=Europe/Zurich:20110714T000000
DTEND;TZID=Europe/Zurich:20110714T000000
LOCATION:Hotel Drei Könige
CATEGORIES:Rotary
END:VEVENT
BEGIN:VTIMEZONE
TZID:Europe/Zurich
BEGIN:DAYLIGHT
DTSTART:20110714T000000
TZNAME:CEST
TZOFFSETTO:+0200
TZOFFSETFROM:+0200
END:DAYLIGHT
END:VTIMEZONE
END:VCALENDAR
