BEGIN:VCALENDAR
PRODID:-//eluceo/ical//2.0/EN
VERSION:2.0
CALSCALE:GREGORIAN
BEGIN:VEVENT
UID:3adc9b1ff9623a6443171384215c316c
DTSTAMP:20260420T003932Z
SUMMARY:Heimat - Chor 14+ in Concert
DESCRIPTION:
URL:https://rc-entlebuch.ch/en/agenda/show/23118
DTSTART;TZID=Europe/Zurich:20120519T200000
DTEND;TZID=Europe/Zurich:20120519T200000
LOCATION:BBZN (Bildungs- und Beratungszentrum Natur) Schüpfheim
CATEGORIES:Rotary
END:VEVENT
BEGIN:VTIMEZONE
TZID:Europe/Zurich
BEGIN:DAYLIGHT
DTSTART:20120519T200000
TZNAME:CEST
TZOFFSETTO:+0200
TZOFFSETFROM:+0200
END:DAYLIGHT
END:VTIMEZONE
END:VCALENDAR
