BEGIN:VCALENDAR
PRODID:-//eluceo/ical//2.0/EN
VERSION:2.0
CALSCALE:GREGORIAN
BEGIN:VEVENT
UID:1014c820c55007c7e3c78204f7e1b08a
DTSTAMP:20260423T095650Z
SUMMARY:Von Hymnen\, Themen und Motiven
DESCRIPTION:Speaker(s): Rot. Markus Zemp
URL:https://rc-entlebuch.ch/en/agenda/show/25280
DTSTART;TZID=Europe/Zurich:20120802T121500
DTEND;TZID=Europe/Zurich:20120802T121500
LOCATION:Hotel Drei Könige
CATEGORIES:Rotary
END:VEVENT
BEGIN:VTIMEZONE
TZID:Europe/Zurich
BEGIN:DAYLIGHT
DTSTART:20120802T121500
TZNAME:CEST
TZOFFSETTO:+0200
TZOFFSETFROM:+0200
END:DAYLIGHT
END:VTIMEZONE
END:VCALENDAR
