BEGIN:VCALENDAR
PRODID:-//eluceo/ical//2.0/EN
VERSION:2.0
CALSCALE:GREGORIAN
BEGIN:VEVENT
UID:9f93755306a7f63cae24357069c8de56
DTSTAMP:20260423T104926Z
SUMMARY:Mein Austauschjahr
DESCRIPTION:Speaker(s): Andreas Limacher
URL:https://rc-entlebuch.ch/en/agenda/show/26182
DTSTART;TZID=Europe/Zurich:20121011T121500
DTEND;TZID=Europe/Zurich:20121011T121500
LOCATION:Hotel Drei Könige
CATEGORIES:Rotary
END:VEVENT
BEGIN:VTIMEZONE
TZID:Europe/Zurich
BEGIN:DAYLIGHT
DTSTART:20121011T121500
TZNAME:CEST
TZOFFSETTO:+0200
TZOFFSETFROM:+0200
END:DAYLIGHT
END:VTIMEZONE
END:VCALENDAR
