BEGIN:VCALENDAR
PRODID:-//eluceo/ical//2.0/EN
VERSION:2.0
CALSCALE:GREGORIAN
BEGIN:VEVENT
UID:8c00aa3251e9dc15238bb98a5c38e2a7
DTSTAMP:20260420T094709Z
SUMMARY:Plauderlunch
DESCRIPTION:
URL:https://rc-entlebuch.ch/en/agenda/show/29038
DTSTART;TZID=Europe/Zurich:20130207T121500
DTEND;TZID=Europe/Zurich:20130207T121500
LOCATION:Hotel Drei Könige
CATEGORIES:Rotary
END:VEVENT
BEGIN:VTIMEZONE
TZID:Europe/Zurich
BEGIN:STANDARD
DTSTART:20130207T121500
TZNAME:CET
TZOFFSETTO:+0100
TZOFFSETFROM:+0100
END:STANDARD
END:VTIMEZONE
END:VCALENDAR
