BEGIN:VCALENDAR
PRODID:-//eluceo/ical//2.0/EN
VERSION:2.0
CALSCALE:GREGORIAN
BEGIN:VEVENT
UID:08a16e61fe354a53549c12fcaa1f488f
DTSTAMP:20260420T133039Z
SUMMARY:Das Luzerner Kantonsspital im Netzwerk 
DESCRIPTION:Speaker(s): Rot. Benno Fuchs
URL:https://rc-entlebuch.ch/en/agenda/show/29041
DTSTART;TZID=Europe/Zurich:20130228T121500
DTEND;TZID=Europe/Zurich:20130228T121500
LOCATION:Hotel Drei Könige
CATEGORIES:Rotary
END:VEVENT
BEGIN:VTIMEZONE
TZID:Europe/Zurich
BEGIN:STANDARD
DTSTART:20130228T121500
TZNAME:CET
TZOFFSETTO:+0100
TZOFFSETFROM:+0100
END:STANDARD
END:VTIMEZONE
END:VCALENDAR
