BEGIN:VCALENDAR
PRODID:-//eluceo/ical//2.0/EN
VERSION:2.0
CALSCALE:GREGORIAN
BEGIN:VEVENT
UID:f915418674cca0720229f08c5b853ef6
DTSTAMP:20260419T225248Z
SUMMARY:29. Prix Rotary
DESCRIPTION:Die 29. Ausgabe des Prix Rotary wurde am Samstag\, 16. November
  2013 durchgeführt.\nDie Resultate finden Sie unten.\n\nBILDER DES PRIX 
 ROTARY 2013
URL:https://rc-entlebuch.ch/en/agenda/show/32932
DTSTART;TZID=Europe/Zurich:20131116T000000
DTEND;TZID=Europe/Zurich:20131116T000000
LOCATION:Pfarreiheim\, Schüpfheim
CATEGORIES:Rotary
END:VEVENT
BEGIN:VTIMEZONE
TZID:Europe/Zurich
BEGIN:STANDARD
DTSTART:20131116T000000
TZNAME:CET
TZOFFSETTO:+0100
TZOFFSETFROM:+0100
END:STANDARD
END:VTIMEZONE
END:VCALENDAR
