BEGIN:VCALENDAR
PRODID:-//eluceo/ical//2.0/EN
VERSION:2.0
CALSCALE:GREGORIAN
BEGIN:VEVENT
UID:aea3da6545052d37d12275528c2331c0
DTSTAMP:20260420T005017Z
SUMMARY:test
DESCRIPTION:Speaker(s): bbbbb
URL:https://rc-entlebuch.ch/en/agenda/show/36531
DTSTART;TZID=Europe/Zurich:20131123T000000
DTEND;TZID=Europe/Zurich:20131123T000000
LOCATION:Hotel Drei Könige
CATEGORIES:Rotary
END:VEVENT
BEGIN:VTIMEZONE
TZID:Europe/Zurich
BEGIN:STANDARD
DTSTART:20131123T000000
TZNAME:CET
TZOFFSETTO:+0100
TZOFFSETFROM:+0100
END:STANDARD
END:VTIMEZONE
END:VCALENDAR
