BEGIN:VCALENDAR
PRODID:-//eluceo/ical//2.0/EN
VERSION:2.0
CALSCALE:GREGORIAN
BEGIN:VEVENT
UID:1344126d33fb43cb9475461dddbb127a
DTSTAMP:20260420T004049Z
SUMMARY:Rotary Reise Sanya Juu/ Tansania c/o Rot. Beat Ineichen
DESCRIPTION:
URL:https://rc-entlebuch.ch/en/agenda/show/54763
DTSTART;TZID=Europe/Zurich:20150818T000000
DTEND;TZID=Europe/Zurich:20150818T000000
LOCATION:Hotel Drei Könige
CATEGORIES:Rotary
END:VEVENT
BEGIN:VTIMEZONE
TZID:Europe/Zurich
BEGIN:DAYLIGHT
DTSTART:20150818T000000
TZNAME:CEST
TZOFFSETTO:+0200
TZOFFSETFROM:+0200
END:DAYLIGHT
END:VTIMEZONE
END:VCALENDAR
