BEGIN:VCALENDAR
PRODID:-//eluceo/ical//2.0/EN
VERSION:2.0
CALSCALE:GREGORIAN
BEGIN:VEVENT
UID:e8d8ebda829b3f7c9090810bba2e1002
DTSTAMP:20260423T221935Z
SUMMARY:Herausforderung der Energiewende 
DESCRIPTION:Orador(es): Peter Suter\, Leiter erneuerbare Energie\, CKW
URL:https://rc-entlebuch.ch/es/agenda/show/29658
DTSTART;TZID=Europe/Zurich:20130314T121500
DTEND;TZID=Europe/Zurich:20130314T121500
LOCATION:Hotel Drei Könige
CATEGORIES:Rotary
END:VEVENT
BEGIN:VTIMEZONE
TZID:Europe/Zurich
BEGIN:STANDARD
DTSTART:20130314T121500
TZNAME:CET
TZOFFSETTO:+0100
TZOFFSETFROM:+0100
END:STANDARD
END:VTIMEZONE
END:VCALENDAR
