BEGIN:VCALENDAR
PRODID:-//eluceo/ical//2.0/EN
VERSION:2.0
CALSCALE:GREGORIAN
BEGIN:VEVENT
UID:d8df19c3cdd5159725e47d25099ae7de
DTSTAMP:20260424T013312Z
SUMMARY:Das Publikum als Programmdirektor - Einblicke in die Programmgestal
 tung von Schweizer Radio und Fernsehen (SRF) im On-demand-Zeitalter
DESCRIPTION:Partneranlass (Anmeldung erforderlich\, \n\nEinladung siehe Bei
 lage pdf)\n\n \n\n \nOrador(es): Hansruedi Schoch\, Programmchef SRF\n
URL:https://rc-entlebuch.ch/es/agenda/show/29659
DTSTART;TZID=Europe/Zurich:20130321T190000
DTEND;TZID=Europe/Zurich:20130321T190000
LOCATION:Hotel Drei Könige
CATEGORIES:Rotary
END:VEVENT
BEGIN:VTIMEZONE
TZID:Europe/Zurich
BEGIN:STANDARD
DTSTART:20130321T190000
TZNAME:CET
TZOFFSETTO:+0100
TZOFFSETFROM:+0100
END:STANDARD
END:VTIMEZONE
END:VCALENDAR
