BEGIN:VCALENDAR
PRODID:-//eluceo/ical//2.0/EN
VERSION:2.0
CALSCALE:GREGORIAN
BEGIN:VEVENT
UID:6a8baa74cba30ed34a8b18efacd0d760
DTSTAMP:20260420T075938Z
SUMMARY:Plauderlunch
DESCRIPTION:
URL:https://rc-entlebuch.ch/es/agenda/show/67294
DTSTART;TZID=Europe/Zurich:20161013T121500
DTEND;TZID=Europe/Zurich:20161013T121500
LOCATION:Landgasthof Drei Könige\, Entlebuch
CATEGORIES:Rotary
END:VEVENT
BEGIN:VTIMEZONE
TZID:Europe/Zurich
BEGIN:DAYLIGHT
DTSTART:20161013T121500
TZNAME:CEST
TZOFFSETTO:+0200
TZOFFSETFROM:+0200
END:DAYLIGHT
END:VTIMEZONE
END:VCALENDAR
