BEGIN:VCALENDAR
PRODID:-//eluceo/ical//2.0/EN
VERSION:2.0
CALSCALE:GREGORIAN
BEGIN:VEVENT
UID:164ab2cd440fd8fd8c042966b3458898
DTSTAMP:20260424T090533Z
SUMMARY:Präsenzlunch
DESCRIPTION:Als Alternative zur Abendveranstaltung Mit der „MS 2017“ au
 f zu neuen Ufern in Luzern.
URL:https://rc-entlebuch.ch/es/agenda/show/68141
DTSTART;TZID=Europe/Zurich:20161103T121500
DTEND;TZID=Europe/Zurich:20161103T121500
LOCATION:Hotel Drei Könige
CATEGORIES:Rotary
END:VEVENT
BEGIN:VTIMEZONE
TZID:Europe/Zurich
BEGIN:STANDARD
DTSTART:20161103T121500
TZNAME:CET
TZOFFSETTO:+0100
TZOFFSETFROM:+0100
END:STANDARD
END:VTIMEZONE
END:VCALENDAR
