BEGIN:VCALENDAR
PRODID:-//eluceo/ical//2.0/EN
VERSION:2.0
CALSCALE:GREGORIAN
BEGIN:VEVENT
UID:7eb9090e2e7ace9e1921c86ecd378063
DTSTAMP:20260420T131248Z
SUMMARY:Plauderlunch
DESCRIPTION:
URL:https://rc-entlebuch.ch/es/agenda/show/68145
DTSTART;TZID=Europe/Zurich:20161124T121500
DTEND;TZID=Europe/Zurich:20161124T121500
LOCATION:Hotel Drei Könige
CATEGORIES:Rotary
END:VEVENT
BEGIN:VTIMEZONE
TZID:Europe/Zurich
BEGIN:STANDARD
DTSTART:20161124T121500
TZNAME:CET
TZOFFSETTO:+0100
TZOFFSETFROM:+0100
END:STANDARD
END:VTIMEZONE
END:VCALENDAR
