BEGIN:VCALENDAR
PRODID:-//eluceo/ical//2.0/EN
VERSION:2.0
CALSCALE:GREGORIAN
BEGIN:VEVENT
UID:527d2f4fd8be81384c9729dbd51da56c
DTSTAMP:20260420T144230Z
SUMMARY:Test
DESCRIPTION:
URL:https://rc-entlebuch.ch/es/agenda/show/69170
DTSTART;TZID=Europe/Zurich:20161130T000000
DTEND;TZID=Europe/Zurich:20161130T000000
LOCATION:Hotel Drei Könige
CATEGORIES:Rotary
END:VEVENT
BEGIN:VTIMEZONE
TZID:Europe/Zurich
BEGIN:STANDARD
DTSTART:20161130T000000
TZNAME:CET
TZOFFSETTO:+0100
TZOFFSETFROM:+0100
END:STANDARD
END:VTIMEZONE
END:VCALENDAR
