BEGIN:VCALENDAR
PRODID:-//eluceo/ical//2.0/EN
VERSION:2.0
CALSCALE:GREGORIAN
BEGIN:VEVENT
UID:858892d7a13e1fcc8ef4d38dfbb296ad
DTSTAMP:20260424T091314Z
SUMMARY:BTest
DESCRIPTION:
URL:https://rc-entlebuch.ch/es/agenda/show/69171
DTSTART;TZID=Europe/Zurich:20161130T000000
DTEND;TZID=Europe/Zurich:20161130T000000
LOCATION:Hotel Drei Könige
CATEGORIES:Rotary
END:VEVENT
BEGIN:VTIMEZONE
TZID:Europe/Zurich
BEGIN:STANDARD
DTSTART:20161130T000000
TZNAME:CET
TZOFFSETTO:+0100
TZOFFSETFROM:+0100
END:STANDARD
END:VTIMEZONE
END:VCALENDAR
