BEGIN:VCALENDAR
PRODID:-//eluceo/ical//2.0/EN
VERSION:2.0
CALSCALE:GREGORIAN
BEGIN:VEVENT
UID:f5f23b790f77bc23049db94b9f4f09bc
DTSTAMP:20260424T111640Z
SUMMARY:Jimmy Studer und sein exklusives Metier 
DESCRIPTION:Conférencier(s): Jimmy Studer\, Mitautor in „Avantgardistisc
 he Naturküche“
URL:https://rc-entlebuch.ch/fr/agenda/show/25281
DTSTART;TZID=Europe/Zurich:20120809T121500
DTEND;TZID=Europe/Zurich:20120809T121500
LOCATION:Gasthof Rössli Escholzmatt
CATEGORIES:Rotary
END:VEVENT
BEGIN:VTIMEZONE
TZID:Europe/Zurich
BEGIN:DAYLIGHT
DTSTART:20120809T121500
TZNAME:CEST
TZOFFSETTO:+0200
TZOFFSETFROM:+0200
END:DAYLIGHT
END:VTIMEZONE
END:VCALENDAR
