BEGIN:VCALENDAR
PRODID:-//eluceo/ical//2.0/EN
VERSION:2.0
CALSCALE:GREGORIAN
BEGIN:VEVENT
UID:e9547c126956b6da2afc446fb1ad4ee2
DTSTAMP:20260422T172705Z
SUMMARY:Internetzugang und Homepage
DESCRIPTION:um 12.15 Uhr Lunch im Hotel Drei Könige\, Entlebuch \nConfére
 ncier(s): Rot. Kurt Rüegg
URL:https://rc-entlebuch.ch/fr/agenda/show/26178
DTSTART;TZID=Europe/Zurich:20120712T111500
DTEND;TZID=Europe/Zurich:20120712T111500
LOCATION:Informatikraum Oberstufenschulhaus Entlebuch (neben Gemeindehaus)
CATEGORIES:Rotary
END:VEVENT
BEGIN:VTIMEZONE
TZID:Europe/Zurich
BEGIN:DAYLIGHT
DTSTART:20120712T111500
TZNAME:CEST
TZOFFSETTO:+0200
TZOFFSETFROM:+0200
END:DAYLIGHT
END:VTIMEZONE
END:VCALENDAR
