BEGIN:VCALENDAR
PRODID:-//eluceo/ical//2.0/EN
VERSION:2.0
CALSCALE:GREGORIAN
BEGIN:VEVENT
UID:e8678a1db16b5c0832f2730443c3c9c6
DTSTAMP:20260423T100316Z
SUMMARY:Von der Idee zur Ausstellung 
DESCRIPTION:Conférencier(s): Fanni Fetzer\, Direktorin Kunstmuseum Luzern
URL:https://rc-entlebuch.ch/fr/agenda/show/30243
DTSTART;TZID=Europe/Zurich:20130411T121500
DTEND;TZID=Europe/Zurich:20130411T121500
LOCATION:Hotel Drei Könige
CATEGORIES:Rotary
END:VEVENT
BEGIN:VTIMEZONE
TZID:Europe/Zurich
BEGIN:DAYLIGHT
DTSTART:20130411T121500
TZNAME:CEST
TZOFFSETTO:+0200
TZOFFSETFROM:+0200
END:DAYLIGHT
END:VTIMEZONE
END:VCALENDAR
