BEGIN:VCALENDAR
PRODID:-//eluceo/ical//2.0/EN
VERSION:2.0
CALSCALE:GREGORIAN
BEGIN:VEVENT
UID:19ca7103e871abc11078ddfd9c136884
DTSTAMP:20260421T190923Z
SUMMARY:Rotary Preisverleihung für besondereProjektarbeiten der Abschlusss
 chülerInnen aus unserem Clubgebiet
DESCRIPTION:Conférencier(s): Rot. Tony Weibel
URL:https://rc-entlebuch.ch/fr/agenda/show/61639
DTSTART;TZID=Europe/Zurich:20160616T175000
DTEND;TZID=Europe/Zurich:20160616T175000
LOCATION:Restaurant Löwen\, Escholzmatt
CATEGORIES:Rotary
END:VEVENT
BEGIN:VTIMEZONE
TZID:Europe/Zurich
BEGIN:DAYLIGHT
DTSTART:20160616T175000
TZNAME:CEST
TZOFFSETTO:+0200
TZOFFSETFROM:+0200
END:DAYLIGHT
END:VTIMEZONE
END:VCALENDAR
