BEGIN:VCALENDAR
PRODID:-//eluceo/ical//2.0/EN
VERSION:2.0
CALSCALE:GREGORIAN
BEGIN:VEVENT
UID:17ed409e29c838e6177201b970e9e349
DTSTAMP:20260421T172018Z
SUMMARY:Eröffnung des neuen P-Jahres
DESCRIPTION:«Freundschaft über Grenzen»\nRot. Benno Zemp\, Präsident 
 – Rot. Rony Bieri\, Programmchef\nConférencier(s): \n
URL:https://rc-entlebuch.ch/fr/agenda/show/64533
DTSTART;TZID=Europe/Zurich:20160707T000000
DTEND;TZID=Europe/Zurich:20160707T000000
LOCATION:Hotel Drei Könige
CATEGORIES:Rotary
END:VEVENT
BEGIN:VTIMEZONE
TZID:Europe/Zurich
BEGIN:DAYLIGHT
DTSTART:20160707T000000
TZNAME:CEST
TZOFFSETTO:+0200
TZOFFSETFROM:+0200
END:DAYLIGHT
END:VTIMEZONE
END:VCALENDAR
