BEGIN:VCALENDAR
PRODID:-//eluceo/ical//2.0/EN
VERSION:2.0
CALSCALE:GREGORIAN
BEGIN:VEVENT
UID:e33156befb4225bfab9ee7d69e71a225
DTSTAMP:20260420T163320Z
SUMMARY:Austausch-Schülerin Camilla verabschiedet sich
DESCRIPTION:Achtung: Hotel Drei Könige geschlossen > Lunch im Panoramarest
 aurant AEntlebuch (ehemals Ackermann\; Parkplätze nach Schranke\; 1. St
 unde gratis\, jede weitere Std. CHF 0\,50 > Lift)\n\nVorher ab 11.45 Uhr (
 bei schönem Wetter auf der Dachterrasse) Apéro\, spendiert von Rot. Benn
 o Geisseler – weniger zum französischen National- als zum persönlichen
  Lebensfeiertag! Zum Voraus herzliche Gratulation und Dank!\nVefsíða: ht
 tp://www.panoramaentlebuch.ch 
URL:https://rc-entlebuch.ch/is/agenda/show/64535
DTSTART;TZID=Europe/Zurich:20160714T121500
DTEND;TZID=Europe/Zurich:20160714T121500
LOCATION:Panoramarestaurant AEntlebuch
CATEGORIES:Rotary
END:VEVENT
BEGIN:VTIMEZONE
TZID:Europe/Zurich
BEGIN:DAYLIGHT
DTSTART:20160714T121500
TZNAME:CEST
TZOFFSETTO:+0200
TZOFFSETFROM:+0200
END:DAYLIGHT
END:VTIMEZONE
END:VCALENDAR
