BEGIN:VCALENDAR
PRODID:-//eluceo/ical//2.0/EN
VERSION:2.0
CALSCALE:GREGORIAN
BEGIN:VEVENT
UID:01010c3e206f81753bdb006384e3a535
DTSTAMP:20260420T131418Z
SUMMARY:Dankesanlass Alters- und Pflegezentrum Sunnematte Escholzmatt
DESCRIPTION:Webbplats: https://www.sunnematte.ch/
URL:https://rc-entlebuch.ch/sv/agenda/show/210816
DTSTART;TZID=Europe/Zurich:20260507T133000
DTEND;TZID=Europe/Zurich:20260507T170000
LOCATION:Sunnematte 1\, 6182 Escholzmatt
CATEGORIES:Rotary
END:VEVENT
BEGIN:VTIMEZONE
TZID:Europe/Zurich
BEGIN:DAYLIGHT
DTSTART:20260507T133000
TZNAME:CEST
TZOFFSETTO:+0200
TZOFFSETFROM:+0200
END:DAYLIGHT
END:VTIMEZONE
END:VCALENDAR
